NROWS          7547
NCOLS          6184
NBANDS         1
NBITS          8
BYTEORDER      I
LAYOUT         BSQ
ULXMAP         499602.000
ULYMAP         4213052.000
XDIM           1.000
YDIM           1.000
SKIPBYTES      24736
MAP_UNITS METERS
BANDROWBYTES   6184
TOTALROWBYTES  6184
/* DATUM NAD83
/* PROJECTION_NAME UTM
/* PROJECTION_ZONE 10
/* SOURCE_IMAGE_DATE 1993 07 13
/* DOQ_FILE_NAME drakesbaysw.hdr
/* DOQ_QUAD_NAME DRAKES_BAY_SW
/* DOQ_STATE CA
