NROWS          7547
NCOLS          6172
NBANDS         1
NBITS          8
BYTEORDER      I
LAYOUT         BSQ
ULXMAP         494130.000
ULYMAP         4206118.000
XDIM           1.000
YDIM           1.000
SKIPBYTES      24688
MAP_UNITS METERS
BANDROWBYTES   6172
TOTALROWBYTES  6172
/* DATUM NAD83
/* PROJECTION_NAME UTM
/* PROJECTION_ZONE 10
/* SOURCE_IMAGE_DATE 1993 07 13
/* DOQ_FILE_NAME drakesbayoesw.hdr
/* DOQ_QUAD_NAME DRAKES_BAY_OE_SW_NE
/* DOQ_STATE CA
