NROWS          7602
NCOLS          6227
NBANDS         1
NBITS          8
BYTEORDER      I
LAYOUT         BSQ
ULXMAP         576035.000
ULYMAP         4248140.000
XDIM           1.000
YDIM           1.000
SKIPBYTES      6227
MAP_UNITS METERS
BANDROWBYTES   6227
TOTALROWBYTES  6227
/* DATUM NAD83
/* PROJECTION_NAME UTM
/* PROJECTION_ZONE 10
/* SOURCE_IMAGE_DATE 1993 06 16
/* DOQ_FILE_NAME fairfield_north_nw.doq
/* DOQ_QUAD_NAME FAIRFIELD_NORTH_NW
/* DOQ_STATE CA
