NROWS          7560
NCOLS          6196
NBANDS         1
NBITS          8
BYTEORDER      I
LAYOUT         BSQ
ULXMAP         516036.000
ULYMAP         4220015.000
XDIM           1.000
YDIM           1.000
SKIPBYTES      24784
MAP_UNITS METERS
BANDROWBYTES   6196
TOTALROWBYTES  6196
/* DATUM NAD83
/* PROJECTION_NAME UTM
/* PROJECTION_ZONE 10
/* SOURCE_IMAGE_DATE 1993 07 13
/* DOQ_FILE_NAME invernessne.hdr
/* DOQ_QUAD_NAME INVERNESS_NE
/* DOQ_STATE CA
