NROWS          7556
NCOLS          6192
NBANDS         1
NBITS          8
BYTEORDER      I
LAYOUT         BSQ
ULXMAP         510558.000
ULYMAP         4220002.000
XDIM           1.000
YDIM           1.000
SKIPBYTES      24768
MAP_UNITS METERS
BANDROWBYTES   6192
TOTALROWBYTES  6192
/* DATUM NAD83
/* PROJECTION_NAME UTM
/* PROJECTION_ZONE 10
/* SOURCE_IMAGE_DATE 1993 07 13
/* DOQ_FILE_NAME invernessnw.hdr
/* DOQ_QUAD_NAME INVERNESS_NW
/* DOQ_STATE CA
