NROWS          7559
NCOLS          6200
NBANDS         1
NBITS          8
BYTEORDER      I
LAYOUT         BSQ
ULXMAP         516050.000
ULYMAP         4213080.000
XDIM           1.000
YDIM           1.000
SKIPBYTES      24800
MAP_UNITS METERS
BANDROWBYTES   6200
TOTALROWBYTES  6200
/* DATUM NAD83
/* PROJECTION_NAME UTM
/* PROJECTION_ZONE 10
/* SOURCE_IMAGE_DATE 1993 07 13
/* DOQ_FILE_NAME invernessse.hdr
/* DOQ_QUAD_NAME INVERNESS_SE
/* DOQ_STATE CA
