NROWS          7555
NCOLS          6196
NBANDS         1
NBITS          8
BYTEORDER      I
LAYOUT         BSQ
ULXMAP         510567.000
ULYMAP         4213067.000
XDIM           1.000
YDIM           1.000
SKIPBYTES      24784
MAP_UNITS METERS
BANDROWBYTES   6196
TOTALROWBYTES  6196
/* DATUM NAD83
/* PROJECTION_NAME UTM
/* PROJECTION_ZONE 10
/* SOURCE_IMAGE_DATE 1993 07 13
/* DOQ_FILE_NAME invernesssw.hdr
/* DOQ_QUAD_NAME INVERNESS_SW
/* DOQ_STATE CA
