NROWS          7591
NCOLS          6191
NBANDS         1
NBITS          8
BYTEORDER      I
LAYOUT         BSQ
ULXMAP         537750.000
ULYMAP         4261720.000
XDIM           1.000
YDIM           1.000
SKIPBYTES      6191
MAP_UNITS METERS
BANDROWBYTES   6191
TOTALROWBYTES  6191
/* DATUM NAD83
/* PROJECTION_NAME UTM
/* PROJECTION_ZONE 10
/* SOURCE_IMAGE_DATE 1993 7 10
/* DOQ_FILE_NAME kenwood_ne.doq
/* DOQ_QUAD_NAME KENWOOD_NE
/* DOQ_STATE CA
