NROWS          7598
NCOLS          6223
NBANDS         1
NBITS          8
BYTEORDER      I
LAYOUT         BSQ
ULXMAP         570575.000
ULYMAP         4248086.000
XDIM           1.000
YDIM           1.000
SKIPBYTES      6223
MAP_UNITS METERS
BANDROWBYTES   6223
TOTALROWBYTES  6223
/* DATUM NAD83
/* PROJECTION_NAME UTM
/* PROJECTION_ZONE 10
/* SOURCE_IMAGE_DATE 1993 06 16
/* DOQ_FILE_NAME mount_george_ne.doq
/* DOQ_QUAD_NAME MOUNT_GEORGE_NE
/* DOQ_STATE CA
