NROWS          7594
NCOLS          6218
NBANDS         1
NBITS          8
BYTEORDER      I
LAYOUT         BSQ
ULXMAP         565116.000
ULYMAP         4248036.000
XDIM           1.000
YDIM           1.000
SKIPBYTES      6218
MAP_UNITS METERS
BANDROWBYTES   6218
TOTALROWBYTES  6218
/* DATUM NAD83
/* PROJECTION_NAME UTM
/* PROJECTION_ZONE 10
/* SOURCE_IMAGE_DATE 1993 07 06
/* DOQ_FILE_NAME mount_george_nw.doq
/* DOQ_QUAD_NAME MOUNT_GEORGE_NW
/* DOQ_STATE CA
