NROWS          7603
NCOLS          6218
NBANDS         1
NBITS          8
BYTEORDER      I
LAYOUT         BSQ
ULXMAP         575903.000
ULYMAP         4262010.000
XDIM           1.000
YDIM           1.000
SKIPBYTES      6218
MAP_UNITS METERS
BANDROWBYTES   6218
TOTALROWBYTES  6218
/* DATUM NAD83
/* PROJECTION_NAME UTM
/* PROJECTION_ZONE 10
/* SOURCE_IMAGE_DATE 1993 06 16
/* DOQ_FILE_NAME mount_vaca_nw.doq
/* DOQ_QUAD_NAME MOUNT_VACA_NW
/* DOQ_STATE CA
