NROWS          7603
NCOLS          6222
NBANDS         1
NBITS          8
BYTEORDER      I
LAYOUT         BSQ
ULXMAP         575969.000
ULYMAP         4255075.000
XDIM           1.000
YDIM           1.000
SKIPBYTES      6222
MAP_UNITS METERS
BANDROWBYTES   6222
TOTALROWBYTES  6222
/* DATUM NAD83
/* PROJECTION_NAME UTM
/* PROJECTION_ZONE 10
/* SOURCE_IMAGE_DATE 1993 06 16
/* DOQ_FILE_NAME mount_vaca_sw.doq
/* DOQ_QUAD_NAME MOUNT_VACA_SW
/* DOQ_STATE CA
