NROWS          7601
NCOLS          6231
NBANDS         1
NBITS          8
BYTEORDER      I
LAYOUT         BSQ
ULXMAP         559700.000
ULYMAP         4241060.000
XDIM           1.000
YDIM           1.000
SKIPBYTES      6231
MAP_UNITS METERS
BANDROWBYTES   6231
TOTALROWBYTES  6231
/* DATUM NAD83
/* PROJECTION_NAME UTM
/* PROJECTION_ZONE 10
/* SOURCE_IMAGE_DATE 1993 7 6
/* DOQ_FILE_NAME napa_se-hd.doq
/* DOQ_QUAD_NAME NAPA_SE
/* DOQ_STATE CA
