NROWS          7556
NCOLS          6180
NBANDS         1
NBITS          8
BYTEORDER      I
LAYOUT         BSQ
ULXMAP         510540.000
ULYMAP         4233871.000
XDIM           1.000
YDIM           1.000
SKIPBYTES      24720
MAP_UNITS METERS
BANDROWBYTES   6180
TOTALROWBYTES  6180
/* DATUM NAD83
/* PROJECTION_NAME UTM
/* PROJECTION_ZONE 10
/* SOURCE_IMAGE_DATE 1993 07 13
/* DOQ_FILE_NAME ptreyesnenw.hdr
/* DOQ_QUAD_NAME POINT_REYES_NE_NW
/* DOQ_STATE CA
