NROWS          7559
NCOLS          6192
NBANDS         1
NBITS          8
BYTEORDER      I
LAYOUT         BSQ
ULXMAP         516022.000
ULYMAP         4226949.000
XDIM           1.000
YDIM           1.000
SKIPBYTES      24768
MAP_UNITS METERS
BANDROWBYTES   6192
TOTALROWBYTES  6192
/* DATUM NAD83
/* PROJECTION_NAME UTM
/* PROJECTION_ZONE 10
/* SOURCE_IMAGE_DATE 1993 07 13
/* DOQ_FILE_NAME ptreyesnese.hdr
/* DOQ_QUAD_NAME POINT_REYES_NE_SE
/* DOQ_STATE CA
