NROWS          7591
NCOLS          6211
NBANDS         1
NBITS          8
BYTEORDER      I
LAYOUT         BSQ
ULXMAP         548690.000
ULYMAP         4254850.000
XDIM           1.000
YDIM           1.000
SKIPBYTES      6211
MAP_UNITS METERS
BANDROWBYTES   6211
TOTALROWBYTES  6211
/* DATUM NAD83
/* PROJECTION_NAME UTM
/* PROJECTION_ZONE 10
/* SOURCE_IMAGE_DATE 1993 7 10
/* DOQ_FILE_NAME rutherford_se.doq
/* DOQ_QUAD_NAME RUTHERFORD_SE
/* DOQ_STATE CA
