NROWS          7581
NCOLS          6201
NBANDS         1
NBITS          8
BYTEORDER      I
LAYOUT         BSQ
ULXMAP         543240.000
ULYMAP         4254810.000
XDIM           1.000
YDIM           1.000
SKIPBYTES      6201
MAP_UNITS METERS
BANDROWBYTES   6201
TOTALROWBYTES  6201
/* DATUM NAD83
/* PROJECTION_NAME UTM
/* PROJECTION_ZONE 10
/* SOURCE_IMAGE_DATE 1993 7 10
/* DOQ_FILE_NAME rutherford_sw.doq
/* DOQ_QUAD_NAME RUTHERFORD_SW
/* DOQ_STATE CA
