NROWS          7567
NCOLS          6204
NBANDS         1
NBITS          8
BYTEORDER      I
LAYOUT         BSQ
ULXMAP         526993.000
ULYMAP         4220052.000
XDIM           1.000
YDIM           1.000
SKIPBYTES      24816
MAP_UNITS METERS
BANDROWBYTES   6204
TOTALROWBYTES  6204
/* DATUM NAD83
/* PROJECTION_NAME UTM
/* PROJECTION_ZONE 10
/* SOURCE_IMAGE_DATE 1993 07 13
/* DOQ_FILE_NAME sangeronimone.hdr
/* DOQ_QUAD_NAME SAN_GERONIMO_NE
/* DOQ_STATE CA
