NROWS          7567
NCOLS          6208
NBANDS         1
NBITS          8
BYTEORDER      I
LAYOUT         BSQ
ULXMAP         527016.000
ULYMAP         4213117.000
XDIM           1.000
YDIM           1.000
SKIPBYTES      24832
MAP_UNITS METERS
BANDROWBYTES   6208
TOTALROWBYTES  6208
/* DATUM NAD83
/* PROJECTION_NAME UTM
/* PROJECTION_ZONE 10
/* SOURCE_IMAGE_DATE 1993 07 13
/* DOQ_FILE_NAME sangeronimose.hdr
/* DOQ_QUAD_NAME SAN_GERONIMO_SE
/* DOQ_STATE CA
