NROWS          7591
NCOLS          6221
NBANDS         1
NBITS          8
BYTEORDER      I
LAYOUT         BSQ
ULXMAP         543350.000
ULYMAP         4234010.000
XDIM           1.000
YDIM           1.000
SKIPBYTES      6221
MAP_UNITS METERS
BANDROWBYTES   6221
TOTALROWBYTES  6221
/* DATUM NAD83
/* PROJECTION_NAME UTM
/* PROJECTION_ZONE 10
/* SOURCE_IMAGE_DATE 1993 7 10
/* DOQ_FILE_NAME searptnw.bil
/* DOQ_QUAD_NAME SEARS_POINT_NW
/* DOQ_STATE CA
