NROWS          7591
NCOLS          6231
NBANDS         1
NBITS          8
BYTEORDER      I
LAYOUT         BSQ
ULXMAP         548860.000
ULYMAP         4227110.000
XDIM           1.000
YDIM           1.000
SKIPBYTES      6231
MAP_UNITS METERS
BANDROWBYTES   6231
TOTALROWBYTES  6231
/* DATUM NAD83
/* PROJECTION_NAME UTM
/* PROJECTION_ZONE 10
/* SOURCE_IMAGE_DATE 1993 7 6
/* DOQ_FILE_NAME searptse.bil
/* DOQ_QUAD_NAME SEARS_POINT_SE
/* DOQ_STATE CA
