NROWS          7552
NCOLS          6176
NBANDS         1
NBITS          8
BYTEORDER      I
LAYOUT         BSQ
ULXMAP         505071.000
ULYMAP         4233862.000
XDIM           1.000
YDIM           1.000
SKIPBYTES      24704
MAP_UNITS METERS
BANDROWBYTES   6176
TOTALROWBYTES  6176
/* DATUM NAD83
/* PROJECTION_NAME UTM
/* PROJECTION_ZONE 10
/* SOURCE_IMAGE_DATE 1993 07 13
/* DOQ_FILE_NAME tomalesne.hdr
/* DOQ_QUAD_NAME TOMALES_NE
/* DOQ_STATE CA
