NROWS          7548
NCOLS          6152
NBANDS         1
NBITS          8
BYTEORDER      I
LAYOUT         BSQ
ULXMAP         499620.000
ULYMAP         4233856.000
XDIM           1.000
YDIM           1.000
SKIPBYTES      24608
MAP_UNITS METERS
BANDROWBYTES   6152
TOTALROWBYTES  6152
/* DATUM NAD83
/* PROJECTION_NAME UTM
/* PROJECTION_ZONE 10
/* SOURCE_IMAGE_DATE 1993 07 13
/* DOQ_FILE_NAME tomalesnw.hdr
/* DOQ_QUAD_NAME TOMALES_NW
/* DOQ_STATE CA
