NROWS          7548
NCOLS          6176
NBANDS         1
NBITS          8
BYTEORDER      I
LAYOUT         BSQ
ULXMAP         499602.000
ULYMAP         4226922.000
XDIM           1.000
YDIM           1.000
SKIPBYTES      24704
MAP_UNITS METERS
BANDROWBYTES   6176
TOTALROWBYTES  6176
/* DATUM NAD83
/* PROJECTION_NAME UTM
/* PROJECTION_ZONE 10
/* SOURCE_IMAGE_DATE 1993 07 13
/* DOQ_FILE_NAME tomalessw.hdr
/* DOQ_QUAD_NAME TOMALES_SW
/* DOQ_STATE CA
