NROWS          7591
NCOLS          6204
NBANDS         1
NBITS          8
BYTEORDER      I
LAYOUT         BSQ
ULXMAP         559553.000
ULYMAP         4261860.000
XDIM           1.000
YDIM           1.000
SKIPBYTES      6204
MAP_UNITS METERS
BANDROWBYTES   6204
TOTALROWBYTES  6204
/* DATUM NAD83
/* PROJECTION_NAME UTM
/* PROJECTION_ZONE 10
/* SOURCE_IMAGE_DATE 1993 07 06
/* DOQ_FILE_NAME yountville_ne.doq
/* DOQ_QUAD_NAME YOUNTVILLE_NE
/* DOQ_STATE CA
