NROWS          7591
NCOLS          6209
NBANDS         1
NBITS          8
BYTEORDER      I
LAYOUT         BSQ
ULXMAP         559604.000
ULYMAP         4254925.000
XDIM           1.000
YDIM           1.000
SKIPBYTES      6209
MAP_UNITS METERS
BANDROWBYTES   6209
TOTALROWBYTES  6209
/* DATUM NAD83
/* PROJECTION_NAME UTM
/* PROJECTION_ZONE 10
/* SOURCE_IMAGE_DATE 1993 07 06
/* DOQ_FILE_NAME yountville_se.doq
/* DOQ_QUAD_NAME YOUNTVILLE_SE
/* DOQ_STATE CA
