NROWS          7588
NCOLS          6204
NBANDS         1
NBITS          8
BYTEORDER      I
LAYOUT         BSQ
ULXMAP         554150.000
ULYMAP         4254883.000
XDIM           1.000
YDIM           1.000
SKIPBYTES      6204
MAP_UNITS METERS
BANDROWBYTES   6204
TOTALROWBYTES  6204
/* DATUM NAD83
/* PROJECTION_NAME UTM
/* PROJECTION_ZONE 10
/* SOURCE_IMAGE_DATE 1993 07 06
/* DOQ_FILE_NAME yountville_sw.doq
/* DOQ_QUAD_NAME YOUNTVILLE_SW
/* DOQ_STATE CA
