NROWS          7592
NCOLS          6312
NBANDS         1
NBITS          8
BYTEORDER      I
LAYOUT         BSQ
ULXMAP         560670.000
ULYMAP         4109307.000
XDIM           1.000
YDIM           1.000
SKIPBYTES      25248
MAP_UNITS METERS
BANDROWBYTES   6312
TOTALROWBYTES  6312
/* DATUM NAD83
/* PROJECTION_NAME UTM
/* PROJECTION_ZONE 10
/* SOURCE_IMAGE_DATE 1991 10 30
/* DOQ_FILE_NAME ne.hdr
/* DOQ_QUAD_NAME ANO_NUEVO_NE
/* DOQ_STATE CA
