NROWS          7605
NCOLS          6316
NBANDS         1
NBITS          8
BYTEORDER      I
LAYOUT         BSQ
ULXMAP         577199.000
ULYMAP         4123323.000
XDIM           1.000
YDIM           1.000
SKIPBYTES      25264
MAP_UNITS METERS
BANDROWBYTES   6316
TOTALROWBYTES  6316
/* DATUM NAD83
/* PROJECTION_NAME UTM
/* PROJECTION_ZONE 10
/* SOURCE_IMAGE_DATE 1991 10 30
/* DOQ_FILE_NAME nw.hdr
/* DOQ_QUAD_NAME CASTLE_ROCK_RIDGE_NW
/* DOQ_STATE CA
