NROWS          7608
NCOLS          6324
NBANDS         1
NBITS          8
BYTEORDER      I
LAYOUT         BSQ
ULXMAP         582811.000
ULYMAP         4116446.000
XDIM           1.000
YDIM           1.000
SKIPBYTES      25296
MAP_UNITS METERS
BANDROWBYTES   6324
TOTALROWBYTES  6324
/* DATUM NAD83
/* PROJECTION_NAME UTM
/* PROJECTION_ZONE 10
/* SOURCE_IMAGE_DATE 1991 10 30
/* DOQ_FILE_NAME se.hdr
/* DOQ_QUAD_NAME CASTLE_ROCK_RIDGE_SE
/* DOQ_STATE CA
