NROWS          7600
NCOLS          6320
NBANDS         1
NBITS          8
BYTEORDER      I
LAYOUT         BSQ
ULXMAP         571775.000
ULYMAP         4109402.000
XDIM           1.000
YDIM           1.000
SKIPBYTES      25280
MAP_UNITS METERS
BANDROWBYTES   6320
TOTALROWBYTES  6320
/* DATUM NAD83
/* PROJECTION_NAME UTM
/* PROJECTION_ZONE 10
/* SOURCE_IMAGE_DATE 1991 10 30
/* DOQ_FILE_NAME ne.hdr
/* DOQ_QUAD_NAME DAVENPORT_NE
/* DOQ_STATE CA
