NROWS          7596
NCOLS          6316
NBANDS         1
NBITS          8
BYTEORDER      I
LAYOUT         BSQ
ULXMAP         566222.000
ULYMAP         4109353.000
XDIM           1.000
YDIM           1.000
SKIPBYTES      25264
MAP_UNITS METERS
BANDROWBYTES   6316
TOTALROWBYTES  6316
/* DATUM NAD83
/* PROJECTION_NAME UTM
/* PROJECTION_ZONE 10
/* SOURCE_IMAGE_DATE 1991 10 30
/* DOQ_FILE_NAME nw.hdr
/* DOQ_QUAD_NAME DAVENPORT_NW
/* DOQ_STATE CA
