NROWS          7600
NCOLS          6324
NBANDS         1
NBITS          8
BYTEORDER      I
LAYOUT         BSQ
ULXMAP         571834.000
ULYMAP         4102469.000
XDIM           1.000
YDIM           1.000
SKIPBYTES      25296
MAP_UNITS METERS
BANDROWBYTES   6324
TOTALROWBYTES  6324
/* DATUM NAD83
/* PROJECTION_NAME UTM
/* PROJECTION_ZONE 10
/* SOURCE_IMAGE_DATE 1991 10 30
/* DOQ_FILE_NAME se.hdr
/* DOQ_QUAD_NAME DAVENPORT_SE
/* DOQ_STATE CA
