NROWS          7608
NCOLS          6328
NBANDS         1
NBITS          8
BYTEORDER      I
LAYOUT         BSQ
ULXMAP         582879.000
ULYMAP         4109512.000
XDIM           1.000
YDIM           1.000
SKIPBYTES      25312
MAP_UNITS METERS
BANDROWBYTES   6328
TOTALROWBYTES  6328
/* DATUM NAD83
/* PROJECTION_NAME UTM
/* PROJECTION_ZONE 10
/* SOURCE_IMAGE_DATE 1991 10 30
/* DOQ_FILE_NAME ne.hdr
/* DOQ_QUAD_NAME FELTON_NE
/* DOQ_STATE CA
