NROWS          7604
NCOLS          6312
NBANDS         1
NBITS          8
BYTEORDER      I
LAYOUT         BSQ
ULXMAP         577410.000
ULYMAP         4102522.000
XDIM           1.000
YDIM           1.000
SKIPBYTES      25248
MAP_UNITS METERS
BANDROWBYTES   6312
TOTALROWBYTES  6312
/* DATUM NAD83
/* PROJECTION_NAME UTM
/* PROJECTION_ZONE 10
/* SOURCE_IMAGE_DATE 1991 10 30
/* DOQ_FILE_NAME sw.hdr
/* DOQ_QUAD_NAME FELTON_SW
/* DOQ_STATE CA
