NROWS          7589
NCOLS          6264
NBANDS         1
NBITS          8
BYTEORDER      I
LAYOUT         BSQ
ULXMAP         555060.000
ULYMAP         4123132.000
XDIM           1.000
YDIM           1.000
SKIPBYTES      25056
MAP_UNITS METERS
BANDROWBYTES   6264
TOTALROWBYTES  6264
/* DATUM NAD83
/* PROJECTION_NAME UTM
/* PROJECTION_ZONE 10
/* SOURCE_IMAGE_DATE 1991 10 30
/* DOQ_FILE_NAME nw.hdr
/* DOQ_QUAD_NAME FRANKLIN_POINT_NW
/* DOQ_STATE CA
