NROWS          7587
NCOLS          6280
NBANDS         1
NBITS          8
BYTEORDER      I
LAYOUT         BSQ
ULXMAP         549360.000
ULYMAP         4143896.000
XDIM           1.000
YDIM           1.000
SKIPBYTES      25120
MAP_UNITS METERS
BANDROWBYTES   6280
TOTALROWBYTES  6280
/* DATUM NAD83
/* PROJECTION_NAME UTM
/* PROJECTION_ZONE 10
/* SOURCE_IMAGE_DATE 1991 10 30
/* DOQ_FILE_NAME se.hdr
/* DOQ_QUAD_NAME HALF_MOON_BAY_SE
/* DOQ_STATE CA
