NROWS          7583
NCOLS          6268
NBANDS         1
NBITS          8
BYTEORDER      I
LAYOUT         BSQ
ULXMAP         543840.000
ULYMAP         4143861.000
XDIM           1.000
YDIM           1.000
SKIPBYTES      25072
MAP_UNITS METERS
BANDROWBYTES   6268
TOTALROWBYTES  6268
/* DATUM NAD83
/* PROJECTION_NAME UTM
/* PROJECTION_ZONE 10
/* SOURCE_IMAGE_DATE 1991 10 30
/* DOQ_FILE_NAME sw.hdr
/* DOQ_QUAD_NAME HALF_MOON_BAY_SW
/* DOQ_STATE CA
