NROWS          7593
NCOLS          6292
NBANDS         1
NBITS          8
BYTEORDER      I
LAYOUT         BSQ
ULXMAP         560469.000
ULYMAP         4137042.000
XDIM           1.000
YDIM           1.000
SKIPBYTES      25168
MAP_UNITS METERS
BANDROWBYTES   6292
TOTALROWBYTES  6292
/* DATUM NAD83
/* PROJECTION_NAME UTM
/* PROJECTION_ZONE 10
/* SOURCE_IMAGE_DATE 1991 10 30
/* DOQ_FILE_NAME ne.hdr
/* DOQ_QUAD_NAME LA_HONDA_NE
/* DOQ_STATE CA
