NROWS          7590
NCOLS          6284
NBANDS         1
NBITS          8
BYTEORDER      I
LAYOUT         BSQ
ULXMAP         554940.000
ULYMAP         4137000.000
XDIM           1.000
YDIM           1.000
SKIPBYTES      25136
MAP_UNITS METERS
BANDROWBYTES   6284
TOTALROWBYTES  6284
/* DATUM NAD83
/* PROJECTION_NAME UTM
/* PROJECTION_ZONE 10
/* SOURCE_IMAGE_DATE 1991 10 30
/* DOQ_FILE_NAME nw.hdr
/* DOQ_QUAD_NAME LA_HONDA_NW
/* DOQ_STATE CA
