NROWS          7597
NCOLS          6300
NBANDS         1
NBITS          8
BYTEORDER      I
LAYOUT         BSQ
ULXMAP         566003.000
ULYMAP         4137088.000
XDIM           1.000
YDIM           1.000
SKIPBYTES      25200
MAP_UNITS METERS
BANDROWBYTES   6300
TOTALROWBYTES  6300
/* DATUM NAD83
/* PROJECTION_NAME UTM
/* PROJECTION_ZONE 10
/* SOURCE_IMAGE_DATE 1991 10 30
/* DOQ_FILE_NAME nw.hdr
/* DOQ_QUAD_NAME MINDEGO_HILL_NW
/* DOQ_STATE CA
