NROWS          7601
NCOLS          6308
NBANDS         1
NBITS          8
BYTEORDER      I
LAYOUT         BSQ
ULXMAP         571597.000
ULYMAP         4130204.000
XDIM           1.000
YDIM           1.000
SKIPBYTES      25232
MAP_UNITS METERS
BANDROWBYTES   6308
TOTALROWBYTES  6308
/* DATUM NAD83
/* PROJECTION_NAME UTM
/* PROJECTION_ZONE 10
/* SOURCE_IMAGE_DATE 1991 10 30
/* DOQ_FILE_NAME se.hdr
/* DOQ_QUAD_NAME MINDEGO_HILL_SE
/* DOQ_STATE CA
