NROWS          7610
NCOLS          6304
NBANDS         1
NBITS          8
BYTEORDER      I
LAYOUT         BSQ
ULXMAP         582467.000
ULYMAP         4151116.000
XDIM           1.000
YDIM           1.000
SKIPBYTES      25216
MAP_UNITS METERS
BANDROWBYTES   6304
TOTALROWBYTES  6304
/* DATUM NAD83
/* PROJECTION_NAME UTM
/* PROJECTION_ZONE 10
/* SOURCE_IMAGE_DATE 1991 10 30
/* DOQ_FILE_NAME ne.hdr
/* DOQ_QUAD_NAME MOUNTAIN_VIEW_NE
/* DOQ_STATE CA
