NROWS          7606
NCOLS          6296
NBANDS         1
NBITS          8
BYTEORDER      I
LAYOUT         BSQ
ULXMAP         576942.000
ULYMAP         4151059.000
XDIM           1.000
YDIM           1.000
SKIPBYTES      25184
MAP_UNITS METERS
BANDROWBYTES   6296
TOTALROWBYTES  6296
/* DATUM NAD83
/* PROJECTION_NAME UTM
/* PROJECTION_ZONE 10
/* SOURCE_IMAGE_DATE 1991 10 30
/* DOQ_FILE_NAME nw.hdr
/* DOQ_QUAD_NAME MOUNTAIN_VIEW_NW
/* DOQ_STATE CA
