NROWS          7606
NCOLS          6300
NBANDS         1
NBITS          8
BYTEORDER      I
LAYOUT         BSQ
ULXMAP         577007.000
ULYMAP         4144125.000
XDIM           1.000
YDIM           1.000
SKIPBYTES      25200
MAP_UNITS METERS
BANDROWBYTES   6300
TOTALROWBYTES  6300
/* DATUM NAD83
/* PROJECTION_NAME UTM
/* PROJECTION_ZONE 10
/* SOURCE_IMAGE_DATE 1991 10 30
/* DOQ_FILE_NAME sw.hdr
/* DOQ_QUAD_NAME MOUNTAIN_VIEW_SW
/* DOQ_STATE CA
