NROWS          7586
NCOLS          6284
NBANDS         1
NBITS          8
BYTEORDER      I
LAYOUT         BSQ
ULXMAP         549401.000
ULYMAP         4136962.000
XDIM           1.000
YDIM           1.000
SKIPBYTES      25136
MAP_UNITS METERS
BANDROWBYTES   6284
TOTALROWBYTES  6284
/* DATUM NAD83
/* PROJECTION_NAME UTM
/* PROJECTION_ZONE 10
/* SOURCE_IMAGE_DATE 1991 10 30
/* DOQ_FILE_NAME ne.hdr
/* DOQ_QUAD_NAME SAN_GREGORIO_NE
/* DOQ_STATE CA
