NROWS          7586
NCOLS          6288
NBANDS         1
NBITS          8
BYTEORDER      I
LAYOUT         BSQ
ULXMAP         549443.000
ULYMAP         4130028.000
XDIM           1.000
YDIM           1.000
SKIPBYTES      25152
MAP_UNITS METERS
BANDROWBYTES   6288
TOTALROWBYTES  6288
/* DATUM NAD83
/* PROJECTION_NAME UTM
/* PROJECTION_ZONE 10
/* SOURCE_IMAGE_DATE 1991 10 30
/* DOQ_FILE_NAME se.hdr
/* DOQ_QUAD_NAME SAN_GREGORIO_SE
/* DOQ_STATE CA
