NROWS          7566
NCOLS          6212
NBANDS         1
NBITS          8
BYTEORDER      I
LAYOUT         BSQ
ULXMAP         527039.000
ULYMAP         4206182.000
XDIM           1.000
YDIM           1.000
SKIPBYTES      24848
MAP_UNITS METERS
BANDROWBYTES   6212
TOTALROWBYTES  6212
/* DATUM NAD83
/* PROJECTION_NAME UTM
/* PROJECTION_ZONE 10
/* SOURCE_IMAGE_DATE 1993 8 25
/* DOQ_FILE_NAME ne.hdr
/* DOQ_QUAD_NAME BOLINAS_NE
/* DOQ_STATE CA
