NROWS          7563
NCOLS          6212
NBANDS         1
NBITS          8
BYTEORDER      I
LAYOUT         BSQ
ULXMAP         521570.000
ULYMAP         4199228.000
XDIM           1.000
YDIM           1.000
SKIPBYTES      24848
MAP_UNITS METERS
BANDROWBYTES   6212
TOTALROWBYTES  6212
/* DATUM NAD83
/* PROJECTION_NAME UTM
/* PROJECTION_ZONE 10
/* SOURCE_IMAGE_DATE 1993 8 25
/* DOQ_FILE_NAME sw.hdr
/* DOQ_QUAD_NAME BOLINAS_SW
/* DOQ_STATE CA
