NROWS          7592
NCOLS          6244
NBANDS         1
NBITS          8
BYTEORDER      I
LAYOUT         BSQ
ULXMAP         565453.000
ULYMAP         4206427.000
XDIM           1.000
YDIM           1.000
SKIPBYTES      24976
MAP_UNITS METERS
BANDROWBYTES   6244
TOTALROWBYTES  6244
/* DATUM NAD83
/* PROJECTION_NAME UTM
/* PROJECTION_ZONE 10
/* SOURCE_IMAGE_DATE 1993 7 10
/* DOQ_FILE_NAME nw.hdr
/* DOQ_QUAD_NAME BRIONES_VALLEY_NW
/* DOQ_STATE CA
